BEGIN:VCALENDAR
VERSION:2.0
PRODID:-//Cincinnati Youth Choir | Cincinnati, OH - ECPv6.15.16//NONSGML v1.0//EN
CALSCALE:GREGORIAN
METHOD:PUBLISH
X-ORIGINAL-URL:https://www.cincinnatichoir.org
X-WR-CALDESC:Events for Cincinnati Youth Choir | Cincinnati, OH
REFRESH-INTERVAL;VALUE=DURATION:PT1H
X-Robots-Tag:noindex
X-PUBLISHED-TTL:PT1H
BEGIN:VTIMEZONE
TZID:America/Indiana/Indianapolis
BEGIN:DAYLIGHT
TZOFFSETFROM:-0500
TZOFFSETTO:-0400
TZNAME:EDT
DTSTART:20230312T070000
END:DAYLIGHT
BEGIN:STANDARD
TZOFFSETFROM:-0400
TZOFFSETTO:-0500
TZNAME:EST
DTSTART:20231105T060000
END:STANDARD
BEGIN:DAYLIGHT
TZOFFSETFROM:-0500
TZOFFSETTO:-0400
TZNAME:EDT
DTSTART:20240310T070000
END:DAYLIGHT
BEGIN:STANDARD
TZOFFSETFROM:-0400
TZOFFSETTO:-0500
TZNAME:EST
DTSTART:20241103T060000
END:STANDARD
BEGIN:DAYLIGHT
TZOFFSETFROM:-0500
TZOFFSETTO:-0400
TZNAME:EDT
DTSTART:20250309T070000
END:DAYLIGHT
BEGIN:STANDARD
TZOFFSETFROM:-0400
TZOFFSETTO:-0500
TZNAME:EST
DTSTART:20251102T060000
END:STANDARD
END:VTIMEZONE
BEGIN:VEVENT
DTSTART;VALUE=DATE:20241207
DTEND;VALUE=DATE:20241209
DTSTAMP:20260425T103833
CREATED:20240913T213310Z
LAST-MODIFIED:20240913T215407Z
UID:2351-1733529600-1733702399@www.cincinnatichoir.org
SUMMARY:Feast of Carols
DESCRIPTION:Bring family and friends to CCM to welcome the 2024 holiday season with festive choral favorites performed by CCM’s\, UC’s and CYC’s fabulous choirs and outstanding guest choirs. \nConcerts Feature These Choirs: \n\nSaturday\, December 7 at 2:00pm: Bel Canto\, Piccolo Coro\, Vivo Coro\nSaturday\, December 7 at 5:00pm: Bel Canto\, Cincinnati Choral Academy\, Vivace\nSunday\, December 8 at 2:00pm: Bel Canto\, Con Brio\, Voci\nSunday\, December 8 at 5:00pm: Bel Canto\, Con Brio\, Voci di Amici (alumni)\n\nJoe Miller\, Brett Scott\, Robyn Lana\, conductors with guest conductors Stephanie Nash\, Greg Miller\, John DeFerraro and Amy Thompson. Each performance features CCM ensembles with a special guest choir: \n\nScott County High School (2 p.m.\, Dec. 7)\nOak Hills High School (5 p.m.\, Dec. 7)\nCincinnati Country Day School (2 p.m.\, Dec. 8)\nNorthern Kentucky Community Chorus (5 p.m.\, Dec. 8)\n\nTickets: $21.50-$25.50 adult\, $16.50-20.50 student\, $17.50-$21.50 UC faculty/staff\, $10 UC student\, $5 CCM student; group discounts available. \nPurchase Tickets Here
URL:https://www.cincinnatichoir.org/performance/feast-of-carols/
LOCATION:Corbett Auditorium\, 290 CCM Blvd.\, Cincinnati\, OH\, United States
ATTACH;FMTTYPE=image/png:https://www.cincinnatichoir.org/wp-content/uploads/2024/09/Feast-of-Carols.png
ORGANIZER;CN="University of Cincinnati%2C College-Conservatory of Music":MAILTO:boxoff@uc.edu
END:VEVENT
END:VCALENDAR